BEGIN:VCALENDAR
VERSION:2.0
PRODID:-//Democratic Party of Oak Park - ECPv6.15.20//NONSGML v1.0//EN
CALSCALE:GREGORIAN
METHOD:PUBLISH
X-WR-CALNAME:Democratic Party of Oak Park
X-ORIGINAL-URL:https://dpop.us
X-WR-CALDESC:Events for Democratic Party of Oak Park
REFRESH-INTERVAL;VALUE=DURATION:PT1H
X-Robots-Tag:noindex
X-PUBLISHED-TTL:PT1H
BEGIN:VTIMEZONE
TZID:America/Chicago
BEGIN:DAYLIGHT
TZOFFSETFROM:-0600
TZOFFSETTO:-0500
TZNAME:CDT
DTSTART:20240310T080000
END:DAYLIGHT
BEGIN:STANDARD
TZOFFSETFROM:-0500
TZOFFSETTO:-0600
TZNAME:CST
DTSTART:20241103T070000
END:STANDARD
BEGIN:DAYLIGHT
TZOFFSETFROM:-0600
TZOFFSETTO:-0500
TZNAME:CDT
DTSTART:20250309T080000
END:DAYLIGHT
BEGIN:STANDARD
TZOFFSETFROM:-0500
TZOFFSETTO:-0600
TZNAME:CST
DTSTART:20251102T070000
END:STANDARD
BEGIN:DAYLIGHT
TZOFFSETFROM:-0600
TZOFFSETTO:-0500
TZNAME:CDT
DTSTART:20260308T080000
END:DAYLIGHT
BEGIN:STANDARD
TZOFFSETFROM:-0500
TZOFFSETTO:-0600
TZNAME:CST
DTSTART:20261101T070000
END:STANDARD
END:VTIMEZONE
BEGIN:VEVENT
DTSTART;TZID=America/Chicago:20250611T180000
DTEND;TZID=America/Chicago:20250611T200000
DTSTAMP:20260421T120010
CREATED:20250509T184218Z
LAST-MODIFIED:20250509T184218Z
UID:10000785-1749664800-1749672000@dpop.us
SUMMARY:DPOP Fundraiser: RESIST 2025
DESCRIPTION:DPOP Fundraiser\nJoin us on June 11th at FitzGerald's Nightclub for an evening of fun\, camaraderie\, and community for DPOP's annual fundraiser.  Click here for tickets and more information.  See you there!
URL:https://dpop.us/event/dpop-fundraiser-resist-2025/
LOCATION:FitzGerald’s\, 6615 W. Roosevelt Road\, Berwyn\, IL\, 60402\, United States
CATEGORIES:Fundraiser
GEO:41.865134;-87.7896926
X-APPLE-STRUCTURED-LOCATION;VALUE=URI;X-ADDRESS=FitzGerald’s 6615 W. Roosevelt Road Berwyn IL 60402 United States;X-APPLE-RADIUS=500;X-TITLE=6615 W. Roosevelt Road:geo:-87.7896926,41.865134
END:VEVENT
BEGIN:VEVENT
DTSTART;TZID=America/Chicago:20250614T100000
DTEND;TZID=America/Chicago:20250614T110000
DTSTAMP:20260421T120010
CREATED:20231005T172739Z
LAST-MODIFIED:20250730T190017Z
UID:10000556-1749895200-1749898800@dpop.us
SUMMARY:Second Saturday Meeting
DESCRIPTION:Join us to learn about news and events coming up in your local Democratic Party.
URL:https://dpop.us/event/second-saturday-meeting-2/2025-06-14/
LOCATION:Democratic Party of Oak Park\, 6939 W. North Ave\, Oak Park\, Illinois\, 60302
GEO:41.908637;-87.800141
X-APPLE-STRUCTURED-LOCATION;VALUE=URI;X-ADDRESS=Democratic Party of Oak Park 6939 W. North Ave Oak Park Illinois 60302;X-APPLE-RADIUS=500;X-TITLE=6939 W. North Ave:geo:-87.800141,41.908637
END:VEVENT
BEGIN:VEVENT
DTSTART;TZID=America/Chicago:20250614T110000
DTEND;TZID=America/Chicago:20250614T150000
DTSTAMP:20260421T120010
CREATED:20250529T201042Z
LAST-MODIFIED:20250612T194827Z
UID:10000786-1749898800-1749913200@dpop.us
SUMMARY:No Kings Rally
DESCRIPTION:Two ways to participate! Rallies will take place in Oak Park and Downtown Chicago! \nOak Park Rally \nOak Park's rally will take place in Scoville Park from 1pm-3pm. For more information and to sign up for the Oak Park rally\, click here. \nChicago Rally \nHead downtown with DPOP! We will meet at the Oak Park Ave Green Line Station at 11am. Sign up with DPOP here for updates. Let's make our voices heard! \nTo sign up directly for the downtown event at Daley Plaza\, click here. \n**Please note that the Daley Center rally begins at 12pm and the Oak Park event starts at 1pm.** \nAbout the Event \nA national day of action and mass mobilization organized by Indivisible to respond to the increasing authoritarian excesses and corruption from Trump and his allies. \nWe’ve watched as they’ve cracked down on free speech\, detained people for their political views\, threatened to deport American citizens\, and defied the courts. \nThey’ve done this all while continuing to serve and enrich their billionaire allies. \nOn June 14—Flag Day—Donald Trump wants tanks in the street and a made-for-TV display for his birthday. But real power isn’t staged in Washington. It rises up everywhere else. And\, the flag doesn’t belong to Donald Trump. It belongs to us. \nNo Kings is a nationwide day of defiance. We’re taking action to reject authoritarianism—and show the world what democracy really looks like. On June 14th\, we’re standing together to say no thrones\, no crowns\, no kings. \nTo learn more about the event\, click here.
URL:https://dpop.us/event/no-kings-rally/
LOCATION:Daley Plaza\, 50 W. Washington Street\, Chicago\, IL\, 60602\, United States
CATEGORIES:Protests
GEO:41.8840362;-87.6301293
X-APPLE-STRUCTURED-LOCATION;VALUE=URI;X-ADDRESS=Daley Plaza 50 W. Washington Street Chicago IL 60602 United States;X-APPLE-RADIUS=500;X-TITLE=50 W. Washington Street:geo:-87.6301293,41.8840362
END:VEVENT
END:VCALENDAR