BEGIN:VCALENDAR
VERSION:2.0
PRODID:-//Democratic Party of Oak Park - ECPv6.15.20//NONSGML v1.0//EN
CALSCALE:GREGORIAN
METHOD:PUBLISH
X-WR-CALNAME:Democratic Party of Oak Park
X-ORIGINAL-URL:https://dpop.us
X-WR-CALDESC:Events for Democratic Party of Oak Park
REFRESH-INTERVAL;VALUE=DURATION:PT1H
X-Robots-Tag:noindex
X-PUBLISHED-TTL:PT1H
BEGIN:VTIMEZONE
TZID:America/Chicago
BEGIN:DAYLIGHT
TZOFFSETFROM:-0600
TZOFFSETTO:-0500
TZNAME:CDT
DTSTART:20220313T080000
END:DAYLIGHT
BEGIN:STANDARD
TZOFFSETFROM:-0500
TZOFFSETTO:-0600
TZNAME:CST
DTSTART:20221106T070000
END:STANDARD
BEGIN:DAYLIGHT
TZOFFSETFROM:-0600
TZOFFSETTO:-0500
TZNAME:CDT
DTSTART:20230312T080000
END:DAYLIGHT
BEGIN:STANDARD
TZOFFSETFROM:-0500
TZOFFSETTO:-0600
TZNAME:CST
DTSTART:20231105T070000
END:STANDARD
BEGIN:DAYLIGHT
TZOFFSETFROM:-0600
TZOFFSETTO:-0500
TZNAME:CDT
DTSTART:20240310T080000
END:DAYLIGHT
BEGIN:STANDARD
TZOFFSETFROM:-0500
TZOFFSETTO:-0600
TZNAME:CST
DTSTART:20241103T070000
END:STANDARD
BEGIN:DAYLIGHT
TZOFFSETFROM:-0600
TZOFFSETTO:-0500
TZNAME:CDT
DTSTART:20250309T080000
END:DAYLIGHT
BEGIN:STANDARD
TZOFFSETFROM:-0500
TZOFFSETTO:-0600
TZNAME:CST
DTSTART:20251102T070000
END:STANDARD
END:VTIMEZONE
BEGIN:VEVENT
DTSTART;TZID=America/Chicago:20240921T093000
DTEND;TZID=America/Chicago:20240921T170000
DTSTAMP:20260419T070610
CREATED:20240912T173106Z
LAST-MODIFIED:20240912T173106Z
UID:10000602-1726911000-1726938000@dpop.us
SUMMARY:Canvass to Michigan!
DESCRIPTION:We will canvass to Michigan on Saturday\, September 21st. We would love to have you join us! We will carpool for a day trip from Oak Park to Michigan and go knock on doors to encourage our neighbors to the northeast to get out and vote. Road trip! \nClick here to sign up for September 21st and learn more.
URL:https://dpop.us/event/canvass-to-michigan-2/
LOCATION:Democratic Party of Oak Park\, 6939 W. North Ave\, Oak Park\, Illinois\, 60302
ORGANIZER;CN="Democratic Party of Oak Park":MAILTO:dpop@donharmon.org
GEO:41.908637;-87.800141
X-APPLE-STRUCTURED-LOCATION;VALUE=URI;X-ADDRESS=Democratic Party of Oak Park 6939 W. North Ave Oak Park Illinois 60302;X-APPLE-RADIUS=500;X-TITLE=6939 W. North Ave:geo:-87.800141,41.908637
END:VEVENT
BEGIN:VEVENT
DTSTART;TZID=America/Chicago:20231028T070000
DTEND;TZID=America/Chicago:20231028T130000
DTSTAMP:20260419T070610
CREATED:20231005T173724Z
LAST-MODIFIED:20231005T173724Z
UID:10000576-1698476400-1698498000@dpop.us
SUMMARY:Farmers' Market Table
DESCRIPTION:Stop by our table at the Oak Park Farmers' Market.  You can sign petitions to get Democratic candidates on the ballot for the 2024 primaries\, sign up for our newsletter\, and pick up some DPOP tchotchkes. \n 
URL:https://dpop.us/event/farmers-market-table/2023-10-28/
LOCATION:Oak Park Farmers’ Market\, Lake & Scoville\, Oak Park\, Illinois\, 60302
ORGANIZER;CN="Democratic Party of Oak Park":MAILTO:dpop@donharmon.org
GEO:41.8884408;-87.787944
X-APPLE-STRUCTURED-LOCATION;VALUE=URI;X-ADDRESS=Oak Park Farmers’ Market Lake & Scoville Oak Park Illinois 60302;X-APPLE-RADIUS=500;X-TITLE=Lake & Scoville:geo:-87.787944,41.8884408
END:VEVENT
BEGIN:VEVENT
DTSTART;TZID=America/Chicago:20231024T173000
DTEND;TZID=America/Chicago:20231024T190000
DTSTAMP:20260419T070610
CREATED:20231005T173110Z
LAST-MODIFIED:20231005T173110Z
UID:10000572-1698168600-1698174000@dpop.us
SUMMARY:Petition Open House
DESCRIPTION:Help get Democrats on the ballot!  We need your signatures to get Democrats on the ballot for the 2024 primary elections.
URL:https://dpop.us/event/petition-open-house/2023-10-24/
LOCATION:Democratic Party of Oak Park\, 6939 W. North Ave\, Oak Park\, Illinois\, 60302
ORGANIZER;CN="Democratic Party of Oak Park":MAILTO:dpop@donharmon.org
GEO:41.908637;-87.800141
X-APPLE-STRUCTURED-LOCATION;VALUE=URI;X-ADDRESS=Democratic Party of Oak Park 6939 W. North Ave Oak Park Illinois 60302;X-APPLE-RADIUS=500;X-TITLE=6939 W. North Ave:geo:-87.800141,41.908637
END:VEVENT
BEGIN:VEVENT
DTSTART;TZID=America/Chicago:20231021T070000
DTEND;TZID=America/Chicago:20231021T130000
DTSTAMP:20260419T070610
CREATED:20231005T173724Z
LAST-MODIFIED:20231005T173724Z
UID:10000575-1697871600-1697893200@dpop.us
SUMMARY:Farmers' Market Table
DESCRIPTION:Stop by our table at the Oak Park Farmers' Market.  You can sign petitions to get Democratic candidates on the ballot for the 2024 primaries\, sign up for our newsletter\, and pick up some DPOP tchotchkes. \n 
URL:https://dpop.us/event/farmers-market-table/2023-10-21/
LOCATION:Oak Park Farmers’ Market\, Lake & Scoville\, Oak Park\, Illinois\, 60302
ORGANIZER;CN="Democratic Party of Oak Park":MAILTO:dpop@donharmon.org
GEO:41.8884408;-87.787944
X-APPLE-STRUCTURED-LOCATION;VALUE=URI;X-ADDRESS=Oak Park Farmers’ Market Lake & Scoville Oak Park Illinois 60302;X-APPLE-RADIUS=500;X-TITLE=Lake & Scoville:geo:-87.787944,41.8884408
END:VEVENT
BEGIN:VEVENT
DTSTART;TZID=America/Chicago:20231017T173000
DTEND;TZID=America/Chicago:20231017T190000
DTSTAMP:20260419T070610
CREATED:20231005T173110Z
LAST-MODIFIED:20231005T173110Z
UID:10000571-1697563800-1697569200@dpop.us
SUMMARY:Petition Open House
DESCRIPTION:Help get Democrats on the ballot!  We need your signatures to get Democrats on the ballot for the 2024 primary elections.
URL:https://dpop.us/event/petition-open-house/2023-10-17/
LOCATION:Democratic Party of Oak Park\, 6939 W. North Ave\, Oak Park\, Illinois\, 60302
ORGANIZER;CN="Democratic Party of Oak Park":MAILTO:dpop@donharmon.org
GEO:41.908637;-87.800141
X-APPLE-STRUCTURED-LOCATION;VALUE=URI;X-ADDRESS=Democratic Party of Oak Park 6939 W. North Ave Oak Park Illinois 60302;X-APPLE-RADIUS=500;X-TITLE=6939 W. North Ave:geo:-87.800141,41.908637
END:VEVENT
BEGIN:VEVENT
DTSTART;TZID=America/Chicago:20231014T070000
DTEND;TZID=America/Chicago:20231014T130000
DTSTAMP:20260419T070610
CREATED:20231005T173724Z
LAST-MODIFIED:20231005T173724Z
UID:10000574-1697266800-1697288400@dpop.us
SUMMARY:Farmers' Market Table
DESCRIPTION:Stop by our table at the Oak Park Farmers' Market.  You can sign petitions to get Democratic candidates on the ballot for the 2024 primaries\, sign up for our newsletter\, and pick up some DPOP tchotchkes. \n 
URL:https://dpop.us/event/farmers-market-table/2023-10-14/
LOCATION:Oak Park Farmers’ Market\, Lake & Scoville\, Oak Park\, Illinois\, 60302
ORGANIZER;CN="Democratic Party of Oak Park":MAILTO:dpop@donharmon.org
GEO:41.8884408;-87.787944
X-APPLE-STRUCTURED-LOCATION;VALUE=URI;X-ADDRESS=Oak Park Farmers’ Market Lake & Scoville Oak Park Illinois 60302;X-APPLE-RADIUS=500;X-TITLE=Lake & Scoville:geo:-87.787944,41.8884408
END:VEVENT
BEGIN:VEVENT
DTSTART;TZID=America/Chicago:20231007T070000
DTEND;TZID=America/Chicago:20231007T130000
DTSTAMP:20260419T070610
CREATED:20231005T173724Z
LAST-MODIFIED:20231005T173724Z
UID:10000573-1696662000-1696683600@dpop.us
SUMMARY:Farmers' Market Table
DESCRIPTION:Stop by our table at the Oak Park Farmers' Market.  You can sign petitions to get Democratic candidates on the ballot for the 2024 primaries\, sign up for our newsletter\, and pick up some DPOP tchotchkes. \n 
URL:https://dpop.us/event/farmers-market-table/2023-10-07/
LOCATION:Oak Park Farmers’ Market\, Lake & Scoville\, Oak Park\, Illinois\, 60302
ORGANIZER;CN="Democratic Party of Oak Park":MAILTO:dpop@donharmon.org
GEO:41.8884408;-87.787944
X-APPLE-STRUCTURED-LOCATION;VALUE=URI;X-ADDRESS=Oak Park Farmers’ Market Lake & Scoville Oak Park Illinois 60302;X-APPLE-RADIUS=500;X-TITLE=Lake & Scoville:geo:-87.787944,41.8884408
END:VEVENT
END:VCALENDAR