BEGIN:VCALENDAR
VERSION:2.0
PRODID:-//Democratic Party of Oak Park - ECPv6.15.20//NONSGML v1.0//EN
CALSCALE:GREGORIAN
METHOD:PUBLISH
X-ORIGINAL-URL:https://dpop.us
X-WR-CALDESC:Events for Democratic Party of Oak Park
REFRESH-INTERVAL;VALUE=DURATION:PT1H
X-Robots-Tag:noindex
X-PUBLISHED-TTL:PT1H
BEGIN:VTIMEZONE
TZID:America/Chicago
BEGIN:DAYLIGHT
TZOFFSETFROM:-0600
TZOFFSETTO:-0500
TZNAME:CDT
DTSTART:20230312T080000
END:DAYLIGHT
BEGIN:STANDARD
TZOFFSETFROM:-0500
TZOFFSETTO:-0600
TZNAME:CST
DTSTART:20231105T070000
END:STANDARD
BEGIN:DAYLIGHT
TZOFFSETFROM:-0600
TZOFFSETTO:-0500
TZNAME:CDT
DTSTART:20240310T080000
END:DAYLIGHT
BEGIN:STANDARD
TZOFFSETFROM:-0500
TZOFFSETTO:-0600
TZNAME:CST
DTSTART:20241103T070000
END:STANDARD
BEGIN:DAYLIGHT
TZOFFSETFROM:-0600
TZOFFSETTO:-0500
TZNAME:CDT
DTSTART:20250309T080000
END:DAYLIGHT
BEGIN:STANDARD
TZOFFSETFROM:-0500
TZOFFSETTO:-0600
TZNAME:CST
DTSTART:20251102T070000
END:STANDARD
BEGIN:DAYLIGHT
TZOFFSETFROM:-0600
TZOFFSETTO:-0500
TZNAME:CDT
DTSTART:20260308T080000
END:DAYLIGHT
BEGIN:STANDARD
TZOFFSETFROM:-0500
TZOFFSETTO:-0600
TZNAME:CST
DTSTART:20261101T070000
END:STANDARD
END:VTIMEZONE
BEGIN:VEVENT
DTSTART;TZID=America/Chicago:20250611T180000
DTEND;TZID=America/Chicago:20250611T200000
DTSTAMP:20260421T095307
CREATED:20250509T184218Z
LAST-MODIFIED:20250509T184218Z
UID:10000785-1749664800-1749672000@dpop.us
SUMMARY:DPOP Fundraiser: RESIST 2025
DESCRIPTION:DPOP Fundraiser\nJoin us on June 11th at FitzGerald's Nightclub for an evening of fun\, camaraderie\, and community for DPOP's annual fundraiser.  Click here for tickets and more information.  See you there!
URL:https://dpop.us/event/dpop-fundraiser-resist-2025/
LOCATION:FitzGerald’s\, 6615 W. Roosevelt Road\, Berwyn\, IL\, 60402\, United States
CATEGORIES:Fundraiser
GEO:41.865134;-87.7896926
X-APPLE-STRUCTURED-LOCATION;VALUE=URI;X-ADDRESS=FitzGerald’s 6615 W. Roosevelt Road Berwyn IL 60402 United States;X-APPLE-RADIUS=500;X-TITLE=6615 W. Roosevelt Road:geo:-87.7896926,41.865134
END:VEVENT
BEGIN:VEVENT
DTSTART;TZID=America/Chicago:20241017T193000
DTEND;TZID=America/Chicago:20241017T213000
DTSTAMP:20260421T095307
CREATED:20240920T192207Z
LAST-MODIFIED:20240920T192207Z
UID:10000661-1729193400-1729200600@dpop.us
SUMMARY:Harmon Band Fundraiser
DESCRIPTION:Come join the band!  The Special Session of Senator Harmon and Band is once again scheduled for FitzGerald's!  Get more information and tickets here.
URL:https://dpop.us/event/harmon-band-fundraiser/
LOCATION:FitzGerald’s\, 6615 W. Roosevelt Road\, Berwyn\, IL\, 60402\, United States
GEO:41.865134;-87.7896926
X-APPLE-STRUCTURED-LOCATION;VALUE=URI;X-ADDRESS=FitzGerald’s 6615 W. Roosevelt Road Berwyn IL 60402 United States;X-APPLE-RADIUS=500;X-TITLE=6615 W. Roosevelt Road:geo:-87.7896926,41.865134
END:VEVENT
BEGIN:VEVENT
DTSTART;TZID=America/Chicago:20240625T180000
DTEND;TZID=America/Chicago:20240625T200000
DTSTAMP:20260421T095307
CREATED:20240605T194543Z
LAST-MODIFIED:20240605T195254Z
UID:10000598-1719338400-1719345600@dpop.us
SUMMARY:DPOP Fundraiser VOTE! 2024
DESCRIPTION:Please join us for an evening supporting the Democratic Party of Oak Park at FitzGerald's in Berwyn.  You can have a something to eat and drink as you talk to fellow Democrats.  You can find tickets at the link below or our our home webpage.  We hope to see you there!
URL:https://dpop.us/event/dpop-fundraiser-vote-2024/
LOCATION:FitzGerald’s\, 6615 W. Roosevelt Road\, Berwyn\, IL\, 60402\, United States
GEO:41.865134;-87.7896926
X-APPLE-STRUCTURED-LOCATION;VALUE=URI;X-ADDRESS=FitzGerald’s 6615 W. Roosevelt Road Berwyn IL 60402 United States;X-APPLE-RADIUS=500;X-TITLE=6615 W. Roosevelt Road:geo:-87.7896926,41.865134
END:VEVENT
END:VCALENDAR