BEGIN:VCALENDAR
VERSION:2.0
PRODID:-//Democratic Party of Oak Park - ECPv6.15.20//NONSGML v1.0//EN
CALSCALE:GREGORIAN
METHOD:PUBLISH
X-ORIGINAL-URL:https://dpop.us
X-WR-CALDESC:Events for Democratic Party of Oak Park
REFRESH-INTERVAL;VALUE=DURATION:PT1H
X-Robots-Tag:noindex
X-PUBLISHED-TTL:PT1H
BEGIN:VTIMEZONE
TZID:America/Chicago
BEGIN:DAYLIGHT
TZOFFSETFROM:-0600
TZOFFSETTO:-0500
TZNAME:CDT
DTSTART:20170312T080000
END:DAYLIGHT
BEGIN:STANDARD
TZOFFSETFROM:-0500
TZOFFSETTO:-0600
TZNAME:CST
DTSTART:20171105T070000
END:STANDARD
BEGIN:DAYLIGHT
TZOFFSETFROM:-0600
TZOFFSETTO:-0500
TZNAME:CDT
DTSTART:20180311T080000
END:DAYLIGHT
BEGIN:STANDARD
TZOFFSETFROM:-0500
TZOFFSETTO:-0600
TZNAME:CST
DTSTART:20181104T070000
END:STANDARD
BEGIN:DAYLIGHT
TZOFFSETFROM:-0600
TZOFFSETTO:-0500
TZNAME:CDT
DTSTART:20190310T080000
END:DAYLIGHT
BEGIN:STANDARD
TZOFFSETFROM:-0500
TZOFFSETTO:-0600
TZNAME:CST
DTSTART:20191103T070000
END:STANDARD
END:VTIMEZONE
BEGIN:VEVENT
DTSTART;TZID=America/Chicago:20180324T110000
DTEND;TZID=America/Chicago:20180324T150000
DTSTAMP:20260420T124235
CREATED:20180323T000656Z
LAST-MODIFIED:20180323T000733Z
UID:10000328-1521889200-1521903600@dpop.us
SUMMARY:March for Our Lives Chicago - 3/24
DESCRIPTION:Come out and march to support our students! \nThe NRA is directing its members to attend and protest these marches. The best thing we can do is to show up in greater numbers. \nBring your friends and family. The time to take action on gun violence is NOW! \nRSVP for the event here!
URL:https://dpop.us/event/march-for-our-lives-chicago-3-24/
LOCATION:Union Park\, 1501 Randolph Street\, Chicago\, IL\, 60606\, United States
CATEGORIES:Community Event,Protests
ATTACH;FMTTYPE=image/jpeg:https://dpop.us/wp-content/uploads/2018/03/marchforourlives.jpg
GEO:41.8851191;-87.6660887
X-APPLE-STRUCTURED-LOCATION;VALUE=URI;X-ADDRESS=Union Park 1501 Randolph Street Chicago IL 60606 United States;X-APPLE-RADIUS=500;X-TITLE=1501 Randolph Street:geo:-87.6660887,41.8851191
END:VEVENT
END:VCALENDAR